BEGIN:VCALENDAR
PRODID:-//dvv-bw.de//dvv.Portalplattform//DE
VERSION:2.0
METHOD:PUBLISH
BEGIN:VEVENT
DTSTART:20260512T080000Z
DTEND:20260512T100000Z
DTSTAMP:20260423T153808Z
UID:34263473-28429731-1778536800000
SUMMARY:Sprachcafé für Frauen
LOCATION:Stadtbibliothek Hauptstelle\, Münsterplatz 17\, 79098 Freiburg
DESCRIPTION:Im SprachCafé für Frauen bieten wir in lockerem Rahmen die Möglichkeit\, Deutsch zu sprechen\, sich kennenzulernen und auszutauschen.\nAt the SprachCafé for women\, we offer the opportunity to speak German\, get to know each other and exchange ideas in a relaxed atmosphere.
CLASS:PUBLIC
X-ALT-DESC;FMTTYPE=text/html:Im SprachCafé für Frauen bieten wir in lockerem Rahmen die Möglichkeit\, Deutsch zu sprechen\, sich kennenzulernen und auszutauschen.<br>At the SprachCafé for women\, we offer the opportunity to speak German\, get to know each other and exchange ideas in a relaxed atmosphere.
END:VEVENT
END:VCALENDAR
