BEGIN:VCALENDAR
PRODID:-//dvv-bw.de//dvv.Portalplattform//DE
VERSION:2.0
METHOD:PUBLISH
BEGIN:VEVENT
DTSTART:20260522T130000Z
DTEND:20260522T160000Z
DTSTAMP:20260423T152850Z
UID:34266414-28429744-1779400800000
SUMMARY:Freies Gamen
LOCATION:Stadtteilbibliothek Haslach, Staudingerstr. 10, 79115 Freiburg
DESCRIPTION:In der "Gaming-Zone" der Jubi Haslach stehen 4 Konsolen (PS5\, PS4\, XboxOne und 3DS) sowie iPads und ein Gaming-PC zur Verfügung.\nMit einem gültigen Ausweis kann man hier 1 Stunde spielen\, testen und sich austauschen.
CLASS:PUBLIC
X-ALT-DESC;FMTTYPE=text/html:In der "Gaming-Zone" der Jubi Haslach stehen 4 Konsolen (PS5\, PS4\, XboxOne und 3DS) sowie iPads und ein Gaming-PC zur Verfügung.<br>Mit einem gültigen Ausweis kann man hier 1 Stunde spielen\, testen und sich austauschen.
END:VEVENT
END:VCALENDAR
